BEGIN:VCALENDAR
VERSION:2.0
PRODID:-//Tukios.com/
BEGIN:VEVENT
UID:e936a7cb-5373-424d-96ec-050344b6e593@www.deloachfuneralhomes.com
DTSTAMP:20260419T215538Z
DTSTART:20260423T180000Z
DTEND:20260423T190000Z
SUMMARY:Visitation
DESCRIPTION:
URL:https://www.deloachfuneralhomes.com/obituaries/sandra-moody
LOCATION: 220 E 6th St  Waynesboro GA 30830
GEO:33.090554;-82.0138482
END:VEVENT
END:VCALENDAR