BEGIN:VCALENDAR
VERSION:2.0
PRODID:-//Tukios.com/
BEGIN:VEVENT
UID:08cfa7b3-32d2-4124-980f-0b6b8cbe9ae4@www.deloachfuneralhomes.com
DTSTAMP:20260419T215506Z
DTSTART:20260423T190000Z
DTEND:20260423T200000Z
SUMMARY:Memorial Service
DESCRIPTION:
URL:https://www.deloachfuneralhomes.com/obituaries/sandra-moody
LOCATION: 220 E 6th St  Waynesboro GA 30830
GEO:33.090554;-82.0138482
END:VEVENT
END:VCALENDAR